Package: rRDPData Version: 1.27.0 Command: /home/biocbuild/bbs-3.21-bioc/R/bin/R CMD INSTALL rRDPData StartedAt: 2025-02-06 10:56:38 -0500 (Thu, 06 Feb 2025) EndedAt: 2025-02-06 10:56:46 -0500 (Thu, 06 Feb 2025) EllapsedTime: 7.8 seconds RetCode: 0 Status: OK