Package: rRDPData Version: 1.27.0 Command: /home/biocbuild/bbs-3.21-bioc/R/bin/R CMD build --keep-empty-dirs --no-resave-data rRDPData StartedAt: 2025-01-30 11:37:01 -0500 (Thu, 30 Jan 2025) EndedAt: 2025-01-30 11:39:37 -0500 (Thu, 30 Jan 2025) EllapsedTime: 156.3 seconds RetCode: 0 Status: OK PackageFile: rRDPData_1.27.0.tar.gz PackageFileSize: 154.8 MiB