Package: prostateCancerTaylor Version: 1.36.0 Command: /home/biocbuild/bbs-3.21-bioc/R/bin/R CMD INSTALL prostateCancerTaylor StartedAt: 2025-10-07 10:56:07 -0400 (Tue, 07 Oct 2025) EndedAt: 2025-10-07 10:56:17 -0400 (Tue, 07 Oct 2025) EllapsedTime: 9.4 seconds RetCode: 0 Status: OK