Package: prostateCancerTaylor Version: 1.36.0 Command: /home/biocbuild/bbs-3.21-bioc/R/bin/R CMD build --keep-empty-dirs --no-resave-data prostateCancerTaylor StartedAt: 2025-10-07 11:33:39 -0400 (Tue, 07 Oct 2025) EndedAt: 2025-10-07 11:33:52 -0400 (Tue, 07 Oct 2025) EllapsedTime: 12.6 seconds RetCode: 0 Status: OK PackageFile: prostateCancerTaylor_1.36.0.tar.gz PackageFileSize: 25.77 MiB