Package: prostateCancerCamcap Version: 1.36.0 Command: /home/biocbuild/bbs-3.21-bioc/R/bin/R CMD INSTALL prostateCancerCamcap StartedAt: 2025-10-09 10:56:13 -0400 (Thu, 09 Oct 2025) EndedAt: 2025-10-09 10:56:32 -0400 (Thu, 09 Oct 2025) EllapsedTime: 18.6 seconds RetCode: 0 Status: OK