Package: prebsdata Version: 1.44.0 Command: /home/biocbuild/bbs-3.21-bioc/R/bin/R CMD INSTALL prebsdata StartedAt: 2025-05-15 10:55:29 -0400 (Thu, 15 May 2025) EndedAt: 2025-05-15 10:55:30 -0400 (Thu, 15 May 2025) EllapsedTime: 1.5 seconds RetCode: 0 Status: OK