Package: prebsdata Version: 1.44.0 Command: /home/biocbuild/bbs-3.21-bioc/R/bin/R CMD check --install=check:prebsdata.install-out.txt --library=/home/biocbuild/bbs-3.21-bioc/R/site-library --timings prebsdata_1.44.0.tar.gz StartedAt: 2025-05-22 12:43:33 -0400 (Thu, 22 May 2025) EndedAt: 2025-05-22 12:43:48 -0400 (Thu, 22 May 2025) EllapsedTime: 14.6 seconds RetCode: 0 Status: OK CheckDir: prebsdata.Rcheck Warnings: 0