Package: prebsdata Version: 1.44.0 Command: /home/biocbuild/bbs-3.21-bioc/R/bin/R CMD build --keep-empty-dirs --no-resave-data prebsdata StartedAt: 2025-05-22 11:32:55 -0400 (Thu, 22 May 2025) EndedAt: 2025-05-22 11:33:19 -0400 (Thu, 22 May 2025) EllapsedTime: 24.6 seconds RetCode: 0 Status: OK PackageFile: prebsdata_1.44.0.tar.gz PackageFileSize: 23.54 MiB