Package: pepDat Version: 1.28.0 Command: /home/biocbuild/bbs-3.21-bioc/R/bin/R CMD INSTALL pepDat StartedAt: 2025-05-27 11:01:21 -0400 (Tue, 27 May 2025) EndedAt: 2025-05-27 11:01:29 -0400 (Tue, 27 May 2025) EllapsedTime: 8.5 seconds RetCode: 0 Status: OK