Package: pd.atdschip.tiling Version: 0.46.0 Command: /home/biocbuild/bbs-3.21-bioc/R/bin/R CMD INSTALL pd.atdschip.tiling StartedAt: 2025-10-16 11:01:13 -0400 (Thu, 16 Oct 2025) EndedAt: 2025-10-16 11:01:38 -0400 (Thu, 16 Oct 2025) EllapsedTime: 24.7 seconds RetCode: 0 Status: OK