Package: pd.atdschip.tiling Version: 0.46.0 Command: /home/biocbuild/bbs-3.21-bioc/R/bin/R CMD build --keep-empty-dirs --no-resave-data pd.atdschip.tiling StartedAt: 2025-10-16 11:32:57 -0400 (Thu, 16 Oct 2025) EndedAt: 2025-10-16 11:35:30 -0400 (Thu, 16 Oct 2025) EllapsedTime: 153.5 seconds RetCode: 0 Status: OK PackageFile: pd.atdschip.tiling_0.46.0.tar.gz PackageFileSize: 134.3 MiB