Package: pRolocdata Version: 1.46.0 Command: /home/biocbuild/bbs-3.21-bioc/R/bin/R CMD INSTALL pRolocdata StartedAt: 2025-10-16 11:01:35 -0400 (Thu, 16 Oct 2025) EndedAt: 2025-10-16 11:02:38 -0400 (Thu, 16 Oct 2025) EllapsedTime: 63.3 seconds RetCode: 0 Status: OK