Package: orthosData Version: 1.6.0 Command: /home/biocbuild/bbs-3.21-bioc/R/bin/R CMD build --keep-empty-dirs --no-resave-data orthosData StartedAt: 2025-05-08 11:33:11 -0400 (Thu, 08 May 2025) EndedAt: 2025-05-08 11:33:51 -0400 (Thu, 08 May 2025) EllapsedTime: 40.0 seconds RetCode: 0 Status: OK PackageFile: orthosData_1.6.0.tar.gz PackageFileSize: 311.9 KiB