Package: optimalFlowData Version: 1.19.0 Command: /home/biocbuild/bbs-3.21-bioc/R/bin/R CMD INSTALL optimalFlowData StartedAt: 2025-02-06 10:55:35 -0500 (Thu, 06 Feb 2025) EndedAt: 2025-02-06 10:56:05 -0500 (Thu, 06 Feb 2025) EllapsedTime: 29.5 seconds RetCode: 0 Status: OK