Package: optimalFlowData Version: 1.19.0 Command: /home/biocbuild/bbs-3.21-bioc/R/bin/R CMD check --install=check:optimalFlowData.install-out.txt --library=/home/biocbuild/bbs-3.21-bioc/R/site-library --timings optimalFlowData_1.19.0.tar.gz StartedAt: 2025-02-06 12:30:06 -0500 (Thu, 06 Feb 2025) EndedAt: 2025-02-06 12:31:08 -0500 (Thu, 06 Feb 2025) EllapsedTime: 62.3 seconds RetCode: 0 Status: WARNINGS CheckDir: optimalFlowData.Rcheck Warnings: 1