Package: optimalFlowData Version: 1.19.0 Command: /home/biocbuild/bbs-3.21-bioc/R/bin/R CMD build --keep-empty-dirs --no-resave-data optimalFlowData StartedAt: 2025-02-06 11:32:57 -0500 (Thu, 06 Feb 2025) EndedAt: 2025-02-06 11:33:47 -0500 (Thu, 06 Feb 2025) EllapsedTime: 49.5 seconds RetCode: 0 Status: OK PackageFile: optimalFlowData_1.19.0.tar.gz PackageFileSize: 75.86 MiB