Package: muleaData Version: 1.4.0 Command: /home/biocbuild/bbs-3.21-bioc/R/bin/R CMD build --keep-empty-dirs --no-resave-data muleaData StartedAt: 2025-09-30 11:30:17 -0400 (Tue, 30 Sep 2025) EndedAt: 2025-09-30 11:30:29 -0400 (Tue, 30 Sep 2025) EllapsedTime: 11.7 seconds RetCode: 0 Status: OK PackageFile: muleaData_1.4.0.tar.gz PackageFileSize: 41.01 KiB