Package: muSpaData Version: 1.0.0 Command: /home/biocbuild/bbs-3.21-bioc/R/bin/R CMD build --keep-empty-dirs --no-resave-data muSpaData StartedAt: 2025-10-16 11:30:38 -0400 (Thu, 16 Oct 2025) EndedAt: 2025-10-16 11:31:55 -0400 (Thu, 16 Oct 2025) EllapsedTime: 77.1 seconds RetCode: 0 Status: OK PackageFile: muSpaData_1.0.0.tar.gz PackageFileSize: 582.8 KiB