Package: mtbls2 Version: 1.37.0 Command: /home/biocbuild/bbs-3.21-bioc/R/bin/R CMD INSTALL mtbls2 StartedAt: 2025-01-30 10:55:34 -0500 (Thu, 30 Jan 2025) EndedAt: 2025-01-30 10:56:13 -0500 (Thu, 30 Jan 2025) EllapsedTime: 39.2 seconds RetCode: 0 Status: OK