Package: mtbls2 Version: 1.38.0 Command: /home/biocbuild/bbs-3.21-bioc/R/bin/R CMD check --install=check:mtbls2.install-out.txt --library=/home/biocbuild/bbs-3.21-bioc/R/site-library --timings mtbls2_1.38.0.tar.gz StartedAt: 2025-05-15 12:38:08 -0400 (Thu, 15 May 2025) EndedAt: 2025-05-15 12:38:33 -0400 (Thu, 15 May 2025) EllapsedTime: 25.0 seconds RetCode: 1 Status: ERROR CheckDir: mtbls2.Rcheck Warnings: NA