Package: msigdb Version: 1.15.0 Command: /home/biocbuild/bbs-3.21-bioc/R/bin/R CMD INSTALL msigdb StartedAt: 2025-01-30 10:57:32 -0500 (Thu, 30 Jan 2025) EndedAt: 2025-01-30 10:57:33 -0500 (Thu, 30 Jan 2025) EllapsedTime: 1.6 seconds RetCode: 0 Status: OK