Package: msigdb Version: 1.16.0 Command: /home/biocbuild/bbs-3.21-bioc/R/bin/R CMD build --keep-empty-dirs --no-resave-data msigdb StartedAt: 2025-05-13 11:29:58 -0400 (Tue, 13 May 2025) EndedAt: 2025-05-13 11:34:46 -0400 (Tue, 13 May 2025) EllapsedTime: 288.6 seconds RetCode: 1 Status: ERROR PackageFile: None PackageFileSize: NA