Package: msdata Version: 0.48.0 Command: /home/biocbuild/bbs-3.21-bioc/R/bin/R CMD INSTALL msdata StartedAt: 2025-05-13 10:55:13 -0400 (Tue, 13 May 2025) EndedAt: 2025-05-13 10:55:29 -0400 (Tue, 13 May 2025) EllapsedTime: 16.2 seconds RetCode: 0 Status: OK