Package: msdata Version: 0.48.0 Command: /home/biocbuild/bbs-3.21-bioc/R/bin/R CMD check --install=check:msdata.install-out.txt --library=/home/biocbuild/bbs-3.21-bioc/R/site-library --timings msdata_0.48.0.tar.gz StartedAt: 2025-05-15 12:37:35 -0400 (Thu, 15 May 2025) EndedAt: 2025-05-15 12:39:24 -0400 (Thu, 15 May 2025) EllapsedTime: 109.1 seconds RetCode: 0 Status: OK CheckDir: msdata.Rcheck Warnings: 0