Package: msd16s Version: 1.28.0 Command: /home/biocbuild/bbs-3.21-bioc/R/bin/R CMD INSTALL msd16s StartedAt: 2025-10-14 10:56:38 -0400 (Tue, 14 Oct 2025) EndedAt: 2025-10-14 10:56:46 -0400 (Tue, 14 Oct 2025) EllapsedTime: 7.6 seconds RetCode: 0 Status: OK