Package: mosaicsExample Version: 1.46.0 Command: /home/biocbuild/bbs-3.21-bioc/R/bin/R CMD INSTALL mosaicsExample StartedAt: 2025-05-13 10:55:16 -0400 (Tue, 13 May 2025) EndedAt: 2025-05-13 10:55:18 -0400 (Tue, 13 May 2025) EllapsedTime: 2.2 seconds RetCode: 0 Status: OK