Package: mosaicsExample Version: 1.45.0 Command: /home/biocbuild/bbs-3.21-bioc/R/bin/R CMD build --keep-empty-dirs --no-resave-data mosaicsExample StartedAt: 2025-01-30 11:30:12 -0500 (Thu, 30 Jan 2025) EndedAt: 2025-01-30 11:30:30 -0500 (Thu, 30 Jan 2025) EllapsedTime: 18.3 seconds RetCode: 0 Status: OK PackageFile: mosaicsExample_1.45.0.tar.gz PackageFileSize: 48.06 MiB