Package: minfiDataEPIC Version: 1.33.0 Command: /home/biocbuild/bbs-3.21-bioc/R/bin/R CMD INSTALL minfiDataEPIC StartedAt: 2025-01-30 11:01:45 -0500 (Thu, 30 Jan 2025) EndedAt: 2025-01-30 11:02:31 -0500 (Thu, 30 Jan 2025) EllapsedTime: 46.0 seconds RetCode: 0 Status: OK