Package: minfiData Version: 0.54.0 Command: /home/biocbuild/bbs-3.21-bioc/R/bin/R CMD INSTALL minfiData StartedAt: 2025-10-09 11:02:39 -0400 (Thu, 09 Oct 2025) EndedAt: 2025-10-09 11:03:21 -0400 (Thu, 09 Oct 2025) EllapsedTime: 41.5 seconds RetCode: 0 Status: OK