Package: minfiData Version: 0.54.0 Command: /home/biocbuild/bbs-3.21-bioc/R/bin/R CMD build --keep-empty-dirs --no-resave-data minfiData StartedAt: 2025-10-09 11:28:41 -0400 (Thu, 09 Oct 2025) EndedAt: 2025-10-09 11:28:54 -0400 (Thu, 09 Oct 2025) EllapsedTime: 12.7 seconds RetCode: 0 Status: OK PackageFile: minfiData_0.54.0.tar.gz PackageFileSize: 74.56 MiB