Package: marinerData Version: 1.8.0 Command: /home/biocbuild/bbs-3.21-bioc/R/bin/R CMD INSTALL marinerData StartedAt: 2025-05-08 10:56:55 -0400 (Thu, 08 May 2025) EndedAt: 2025-05-08 10:57:08 -0400 (Thu, 08 May 2025) EllapsedTime: 12.5 seconds RetCode: 0 Status: OK