Package: marinerData Version: 1.8.0 Command: /home/biocbuild/bbs-3.21-bioc/R/bin/R CMD check --install=check:marinerData.install-out.txt --library=/home/biocbuild/bbs-3.21-bioc/R/site-library --timings marinerData_1.8.0.tar.gz StartedAt: 2025-05-08 12:21:02 -0400 (Thu, 08 May 2025) EndedAt: 2025-05-08 12:23:39 -0400 (Thu, 08 May 2025) EllapsedTime: 156.5 seconds RetCode: 0 Status: OK CheckDir: marinerData.Rcheck Warnings: 0