Package: marinerData Version: 1.7.0 Command: /home/biocbuild/bbs-3.21-bioc/R/bin/R CMD build --keep-empty-dirs --no-resave-data marinerData StartedAt: 2025-01-30 11:27:23 -0500 (Thu, 30 Jan 2025) EndedAt: 2025-01-30 11:28:02 -0500 (Thu, 30 Jan 2025) EllapsedTime: 39.2 seconds RetCode: 0 Status: OK PackageFile: marinerData_1.7.0.tar.gz PackageFileSize: 217.7 KiB