Package: humanHippocampus2024 Version: 1.0.0 Command: /home/biocbuild/bbs-3.21-bioc/R/bin/R CMD INSTALL humanHippocampus2024 StartedAt: 2025-10-16 11:00:26 -0400 (Thu, 16 Oct 2025) EndedAt: 2025-10-16 11:00:48 -0400 (Thu, 16 Oct 2025) EllapsedTime: 21.7 seconds RetCode: 0 Status: OK