Package: homosapienDEE2CellScore Version: 1.4.0 Command: /home/biocbuild/bbs-3.21-bioc/R/bin/R CMD INSTALL homosapienDEE2CellScore StartedAt: 2025-07-22 11:01:12 -0400 (Tue, 22 Jul 2025) EndedAt: 2025-07-22 11:01:40 -0400 (Tue, 22 Jul 2025) EllapsedTime: 27.8 seconds RetCode: 0 Status: OK