Package: hapmapsnp5 Version: 1.50.0 Command: /home/biocbuild/bbs-3.21-bioc/R/bin/R CMD build --keep-empty-dirs --no-resave-data hapmapsnp5 StartedAt: 2025-07-22 11:19:37 -0400 (Tue, 22 Jul 2025) EndedAt: 2025-07-22 11:21:30 -0400 (Tue, 22 Jul 2025) EllapsedTime: 112.1 seconds RetCode: 0 Status: OK PackageFile: hapmapsnp5_1.50.0.tar.gz PackageFileSize: 59.41 MiB