Package: genomationData Version: 1.40.0 Command: /home/biocbuild/bbs-3.21-bioc/R/bin/R CMD INSTALL genomationData StartedAt: 2025-10-16 10:55:57 -0400 (Thu, 16 Oct 2025) EndedAt: 2025-10-16 10:56:00 -0400 (Thu, 16 Oct 2025) EllapsedTime: 2.6 seconds RetCode: 0 Status: OK