Package: geneLenDataBase Version: 1.43.0 Command: /home/biocbuild/bbs-3.21-bioc/R/bin/R CMD INSTALL geneLenDataBase StartedAt: 2025-01-30 11:01:08 -0500 (Thu, 30 Jan 2025) EndedAt: 2025-01-30 11:02:24 -0500 (Thu, 30 Jan 2025) EllapsedTime: 76.5 seconds RetCode: 0 Status: OK