Package: geneLenDataBase Version: 1.44.0 Command: /home/biocbuild/bbs-3.21-bioc/R/bin/R CMD build --keep-empty-dirs --no-resave-data geneLenDataBase StartedAt: 2025-05-20 11:17:53 -0400 (Tue, 20 May 2025) EndedAt: 2025-05-20 11:18:47 -0400 (Tue, 20 May 2025) EllapsedTime: 54.4 seconds RetCode: 0 Status: OK PackageFile: geneLenDataBase_1.44.0.tar.gz PackageFileSize: 95.79 MiB