Package: gDNAinRNAseqData Version: 1.8.0 Command: /home/biocbuild/bbs-3.21-bioc/R/bin/R CMD build --keep-empty-dirs --no-resave-data gDNAinRNAseqData StartedAt: 2025-10-02 11:18:32 -0400 (Thu, 02 Oct 2025) EndedAt: 2025-10-02 11:19:18 -0400 (Thu, 02 Oct 2025) EllapsedTime: 46.0 seconds RetCode: 0 Status: OK PackageFile: gDNAinRNAseqData_1.8.0.tar.gz PackageFileSize: 296.1 KiB