Package: fourDNData Version: 1.7.0 Command: /home/biocbuild/bbs-3.21-bioc/R/bin/R CMD INSTALL fourDNData StartedAt: 2025-01-30 10:58:54 -0500 (Thu, 30 Jan 2025) EndedAt: 2025-01-30 10:59:05 -0500 (Thu, 30 Jan 2025) EllapsedTime: 11.6 seconds RetCode: 0 Status: OK