Package: fourDNData Version: 1.7.0 Command: /home/biocbuild/bbs-3.21-bioc/R/bin/R CMD check --install=check:fourDNData.install-out.txt --library=/home/biocbuild/bbs-3.21-bioc/R/site-library --timings fourDNData_1.7.0.tar.gz StartedAt: 2025-01-30 12:06:20 -0500 (Thu, 30 Jan 2025) EndedAt: 2025-01-30 12:08:30 -0500 (Thu, 30 Jan 2025) EllapsedTime: 130.9 seconds RetCode: 0 Status: OK CheckDir: fourDNData.Rcheck Warnings: 0