Package: faahKO Version: 1.48.1 Command: /home/biocbuild/bbs-3.21-bioc/R/bin/R CMD INSTALL faahKO StartedAt: 2025-05-27 11:03:59 -0400 (Tue, 27 May 2025) EndedAt: 2025-05-27 11:04:50 -0400 (Tue, 27 May 2025) EllapsedTime: 50.5 seconds RetCode: 0 Status: OK