Package: ewceData Version: 1.15.0 Command: /home/biocbuild/bbs-3.21-bioc/R/bin/R CMD check --install=check:ewceData.install-out.txt --library=/home/biocbuild/bbs-3.21-bioc/R/site-library --timings ewceData_1.15.0.tar.gz StartedAt: 2025-01-30 12:03:29 -0500 (Thu, 30 Jan 2025) EndedAt: 2025-01-30 12:06:03 -0500 (Thu, 30 Jan 2025) EllapsedTime: 154.3 seconds RetCode: 0 Status: OK CheckDir: ewceData.Rcheck Warnings: 0