Package: etec16s Version: 1.35.0 Command: /home/biocbuild/bbs-3.21-bioc/R/bin/R CMD check --install=check:etec16s.install-out.txt --library=/home/biocbuild/bbs-3.21-bioc/R/site-library --timings etec16s_1.35.0.tar.gz StartedAt: 2025-01-30 12:03:24 -0500 (Thu, 30 Jan 2025) EndedAt: 2025-01-30 12:03:59 -0500 (Thu, 30 Jan 2025) EllapsedTime: 34.9 seconds RetCode: 0 Status: OK CheckDir: etec16s.Rcheck Warnings: 0