Package: etec16s Version: 1.35.0 Command: /home/biocbuild/bbs-3.21-bioc/R/bin/R CMD build --keep-empty-dirs --no-resave-data etec16s StartedAt: 2025-01-30 11:16:34 -0500 (Thu, 30 Jan 2025) EndedAt: 2025-01-30 11:16:43 -0500 (Thu, 30 Jan 2025) EllapsedTime: 9.3 seconds RetCode: 0 Status: OK PackageFile: etec16s_1.35.0.tar.gz PackageFileSize: 309.6 KiB