Package: estrogen Version: 1.54.0 Maintainer: Wolfgang Huber MaintainerEmail: wolfgang.huber at embl.de git_url: https://git.bioconductor.org/packages/estrogen git_branch: RELEASE_3_21 git_last_commit: 266ae62 git_last_commit_date: 2025-04-15 09:13:39 -0400 (Tue, 15 Apr 2025)