Package: eoPredData Version: 1.1.0 Command: /home/biocbuild/bbs-3.21-bioc/R/bin/R CMD check --install=check:eoPredData.install-out.txt --library=/home/biocbuild/bbs-3.21-bioc/R/site-library --timings eoPredData_1.1.0.tar.gz StartedAt: 2025-01-30 12:03:03 -0500 (Thu, 30 Jan 2025) EndedAt: 2025-01-30 12:03:53 -0500 (Thu, 30 Jan 2025) EllapsedTime: 49.9 seconds RetCode: 0 Status: OK CheckDir: eoPredData.Rcheck Warnings: 0