Package: dorothea Version: 1.20.0 Command: /home/biocbuild/bbs-3.21-bioc/R/bin/R CMD build --keep-empty-dirs --no-resave-data dorothea StartedAt: 2025-10-16 11:14:06 -0400 (Thu, 16 Oct 2025) EndedAt: 2025-10-16 11:15:54 -0400 (Thu, 16 Oct 2025) EllapsedTime: 108.0 seconds RetCode: 1 Status: ERROR PackageFile: None PackageFileSize: NA