Package: curatedMetagenomicData Version: 3.15.0 Maintainer: Lucas schiffer MaintainerEmail: schiffer.lucas at gmail.com git_url: https://git.bioconductor.org/packages/curatedMetagenomicData git_branch: devel git_last_commit: c2fbd63 git_last_commit_date: 2024-10-29 09:45:44 -0500 (Tue, 29 Oct 2024)